BEGIN:VCALENDAR
VERSION:2.0
PRODID:-//CCGS - ECPv6.15.20//NONSGML v1.0//EN
CALSCALE:GREGORIAN
METHOD:PUBLISH
X-ORIGINAL-URL:https://colocgs.org
X-WR-CALDESC:Events for CCGS
REFRESH-INTERVAL;VALUE=DURATION:PT1H
X-Robots-Tag:noindex
X-PUBLISHED-TTL:PT1H
BEGIN:VTIMEZONE
TZID:America/Denver
BEGIN:DAYLIGHT
TZOFFSETFROM:-0700
TZOFFSETTO:-0600
TZNAME:MDT
DTSTART:20140309T090000
END:DAYLIGHT
BEGIN:STANDARD
TZOFFSETFROM:-0600
TZOFFSETTO:-0700
TZNAME:MST
DTSTART:20141102T080000
END:STANDARD
BEGIN:DAYLIGHT
TZOFFSETFROM:-0700
TZOFFSETTO:-0600
TZNAME:MDT
DTSTART:20150308T090000
END:DAYLIGHT
BEGIN:STANDARD
TZOFFSETFROM:-0600
TZOFFSETTO:-0700
TZNAME:MST
DTSTART:20151101T080000
END:STANDARD
BEGIN:DAYLIGHT
TZOFFSETFROM:-0700
TZOFFSETTO:-0600
TZNAME:MDT
DTSTART:20160313T090000
END:DAYLIGHT
BEGIN:STANDARD
TZOFFSETFROM:-0600
TZOFFSETTO:-0700
TZNAME:MST
DTSTART:20161106T080000
END:STANDARD
BEGIN:DAYLIGHT
TZOFFSETFROM:-0700
TZOFFSETTO:-0600
TZNAME:MDT
DTSTART:20170312T090000
END:DAYLIGHT
BEGIN:STANDARD
TZOFFSETFROM:-0600
TZOFFSETTO:-0700
TZNAME:MST
DTSTART:20171105T080000
END:STANDARD
BEGIN:DAYLIGHT
TZOFFSETFROM:-0700
TZOFFSETTO:-0600
TZNAME:MDT
DTSTART:20180311T090000
END:DAYLIGHT
BEGIN:STANDARD
TZOFFSETFROM:-0600
TZOFFSETTO:-0700
TZNAME:MST
DTSTART:20181104T080000
END:STANDARD
BEGIN:DAYLIGHT
TZOFFSETFROM:-0700
TZOFFSETTO:-0600
TZNAME:MDT
DTSTART:20190310T090000
END:DAYLIGHT
BEGIN:STANDARD
TZOFFSETFROM:-0600
TZOFFSETTO:-0700
TZNAME:MST
DTSTART:20191103T080000
END:STANDARD
BEGIN:DAYLIGHT
TZOFFSETFROM:-0700
TZOFFSETTO:-0600
TZNAME:MDT
DTSTART:20200308T090000
END:DAYLIGHT
BEGIN:STANDARD
TZOFFSETFROM:-0600
TZOFFSETTO:-0700
TZNAME:MST
DTSTART:20201101T080000
END:STANDARD
END:VTIMEZONE
BEGIN:VEVENT
DTSTART;TZID=America/Denver:20190316T173000
DTEND;TZID=America/Denver:20190316T203000
DTSTAMP:20260425T070729
CREATED:20180210T221933Z
LAST-MODIFIED:20190203T182249Z
UID:2854-1552757400-1552768200@colocgs.org
SUMMARY:Basketball All-State Banquet
DESCRIPTION:Basketball CCGS All-State Banquet – 16 March\, Time: 6:00pm (Doors open at 5:30pm) \nThe banquet will be held at the DoubleTree hotel in Westminster. (map)\nFor those attending the banquet\, it is open seating\, so if you have a group that wants to sit together please arrive early to save your seats. \nIf you need a Hotel: Room reservations can be made at the DoubleTree Hotel.
URL:https://colocgs.org/event/basketball-all-state-banquet
LOCATION:DoubleTree Hotel\, 8773 Yates Drive\, Westminster\, CO\, 80031\, United States
CATEGORIES:Basketball,Sports
END:VEVENT
BEGIN:VEVENT
DTSTART;TZID=America/Denver:20190310T093000
DTEND;TZID=America/Denver:20190310T140000
DTSTAMP:20260425T070729
CREATED:20190203T183055Z
LAST-MODIFIED:20190203T183407Z
UID:2987-1552210200-1552226400@colocgs.org
SUMMARY:Basketball Selection Meeting
DESCRIPTION:The meeting will be at Skyview High School in Thornton (map) on 10 Mar at 9:30 a.m. You must be a CCGS member to vote for athletes (Become a member). \nThe All-State ballot as well as ballot information can be found here.
URL:https://colocgs.org/event/basketball-selection-meeting
LOCATION:Grandview High School\, 20500 E Arapahoe Rd\, Aurora\, CO\, 80016\, United States
END:VEVENT
BEGIN:VEVENT
DTSTART;TZID=America/Denver:20181118T103000
DTEND;TZID=America/Denver:20181118T170000
DTSTAMP:20260425T070729
CREATED:20141109T210650Z
LAST-MODIFIED:20181025T164108Z
UID:2041-1542537000-1542560400@colocgs.org
SUMMARY:Volleyball All-State Games
DESCRIPTION:Volleyball CCGS All-State Games – 18 Nov at Arvada West high school (map) \nGame Times:\n1A – 9:00 am\n2A – 10:30 am\n3A – 12:00 pm\n4A – 1:30 pm\n5A – 3:00 pm \nGame Day: Game day tickets are CASH ONLY $4.00 adult\, $2.00 for CCGS members\, students and senior citizens (55+). Non-school age children are free. CCGS is a non-profit organization\, money from ticket sales allow us to continue to sponsor the Games. A concession stand will be available.
URL:https://colocgs.org/event/volleyball-all-state-games
LOCATION:Arvada West High School\, 11595 Allendale Dr\, Arvada\, CO\, 80004\, United States
CATEGORIES:Sports,Volleyball
END:VEVENT
BEGIN:VEVENT
DTSTART;TZID=America/Denver:20181117T173000
DTEND;TZID=America/Denver:20181117T210000
DTSTAMP:20260425T070729
CREATED:20141109T204917Z
LAST-MODIFIED:20181025T164234Z
UID:2037-1542475800-1542488400@colocgs.org
SUMMARY:Volleyball Banquet
DESCRIPTION:Volleyball CCGS All-State Banquet – 17 Nov\, Time: 6:00pm (Doors open at 5:30pm) \nThe banquet will be held at the DoubleTree hotel in Westminster.\nFor those attending the banquet\, it is open seating\, so if you have a group that wants to sit together please arrive early to save your seats. \nIf you need a Hotel: Room reservations can be made at the DoubleTree Hotel.
URL:https://colocgs.org/event/volleyball-banquet
LOCATION:DoubleTree Hotel\, 8773 Yates Drive\, Westminster\, CO\, 80031\, United States
CATEGORIES:Sports,Volleyball
END:VEVENT
BEGIN:VEVENT
DTSTART;TZID=America/Denver:20181111T093000
DTEND;TZID=America/Denver:20181111T140000
DTSTAMP:20260425T070729
CREATED:20151111T175152Z
LAST-MODIFIED:20181025T164603Z
UID:2287-1541928600-1541944800@colocgs.org
SUMMARY:Volleyball Selection Meeting
DESCRIPTION:The meeting will be at Aspen Creek K-8 in Broomfield (map) on 11 Nov at 9:30 a.m. You must be a CCGS member to vote for athletes (Become a member). \nThe All-State ballot as well as ballot information can be found here.
URL:https://colocgs.org/event/volleyball-selection-meeting
LOCATION:Aspen Creek K-8\, 5500 Aspen Creek Dr\,\, Broomfield\, CO\, 80020\, United States
CATEGORIES:Sports,Volleyball
END:VEVENT
BEGIN:VEVENT
DTSTART;TZID=America/Denver:20181104T140000
DTEND;TZID=America/Denver:20181104T170000
DTSTAMP:20260425T070729
CREATED:20151012T054907Z
LAST-MODIFIED:20181008T172519Z
UID:2253-1541340000-1541350800@colocgs.org
SUMMARY:Softball All-State Games
DESCRIPTION:Athlete check in and Banquet will be held at the DoubleTree (map) .  Special room rates are offered at the DoubleTree during the All-State Games (reservations). \nAthlete check in from 9:00-9:45 AM \nBanquet starts at 11:00 AM (doors open at 10:30) \nGames will be held at Christopher Fileds (map) following the banquet. \nTeam photos will be taken on the field at 1:00 PM \nOpening ceremony starts at 2:15 PM\, games to follow.
URL:https://colocgs.org/event/softball-all-state-games
LOCATION:Christopher Fields\, 10485 N Sheridan Blvd\, Westminster\, CO\, 80020\, United States
CATEGORIES:Softball,Sports
END:VEVENT
BEGIN:VEVENT
DTSTART;TZID=America/Denver:20181021T090000
DTEND;TZID=America/Denver:20181021T130000
DTSTAMP:20260425T070729
CREATED:20140901T193206Z
LAST-MODIFIED:20181008T161735Z
UID:1557-1540112400-1540126800@colocgs.org
SUMMARY:Softball Selection Meeting
DESCRIPTION:The meeting will be at Monarch K-8 in Louisville (map) at 9:00 a.m. You must be a CCGS member to vote for athletes (Become a member). \nThe All-State ballot as well as ballot information can be found on the Softball page.
URL:https://colocgs.org/event/softball-selection-meeting
LOCATION:Monarch K-8\, 263 Campus Dr\, Louisville\, 80027\, United States
CATEGORIES:General,Softball,Sports
END:VEVENT
BEGIN:VEVENT
DTSTART;VALUE=DATE:20181019
DTEND;VALUE=DATE:20181020
DTSTAMP:20260425T070729
CREATED:20181008T165107Z
LAST-MODIFIED:20181008T165107Z
UID:2906-1539907200-1539993599@colocgs.org
SUMMARY:Softball Ballot Due
DESCRIPTION:Take a ballot to your (end of the season) league meeting. You can find one in any of the\nfollowing locations: \n\nThe back of your CHSAA Softball Bulletin\nOct 2018 Newsletter\nA future email from CHSAA reminding you of the process\n\n** Fill out ballot and email or email it back to me by Friday Oct 19th ** \nKhara West\nSoftball Chair – CCGS\nkhara.west@bvsd.org
URL:https://colocgs.org/event/softball-ballot-due
LOCATION:CO\, United States
CATEGORIES:Softball,Sports
END:VEVENT
BEGIN:VEVENT
DTSTART;TZID=America/Denver:20180311T093000
DTEND;TZID=America/Denver:20180311T140000
DTSTAMP:20260425T070729
CREATED:20170311T230959Z
LAST-MODIFIED:20170814T115614Z
UID:2651-1520760600-1520776800@colocgs.org
SUMMARY:Basketball Selection Meeting
DESCRIPTION:The meeting will be at Hilton Garden Inn Denver (map) on 3/11 at 9:30 a.m. You must be a CCGS member to vote for athletes (Become a member). \nThe All-State ballot as well as ballot information can be found on the Basketball page.
URL:https://colocgs.org/event/basketball-selection-meeting-2
LOCATION:Hilton Garden Inn Denver Airport\, Hilton Garden Inn Denver Airport\, 16475 E 40th Cir\, Aurora\, CO\, 80011\, United States
CATEGORIES:Basketball,Sports
END:VEVENT
BEGIN:VEVENT
DTSTART;TZID=America/Denver:20161106T103000
DTEND;TZID=America/Denver:20161106T130000
DTSTAMP:20260425T070729
CREATED:20140919T010453Z
LAST-MODIFIED:20161027T005637Z
UID:1800-1478428200-1478437200@colocgs.org
SUMMARY:Softball Banquet
DESCRIPTION:Athlete check in and Banquet will be held at the DoubleTree (map).  Special room rates are offered at the DoubleTree during the All-State Games. Call the DoubleTree at 1-303-427-4000 and ask for CCGS room rates (reservations). \nAthlete check in from 9:00-10:00 AM \nBanquet starts at 11:00 AM (doors open at 10:30) \nGames will be held at Christopher Fileds (map) following the banquet. \nTeam photos will be taken on the field at 1:00 PM \nOpening ceremony starts at 2:15 PM \nGames start at 2:30 PM
URL:https://colocgs.org/event/softball-banquet
LOCATION:DoubleTree Hotel\, 8773 Yates Drive\, Westminster\, CO\, 80031\, United States
CATEGORIES:General,Softball,Sports
END:VEVENT
BEGIN:VEVENT
DTSTART;TZID=America/Denver:20150829T130000
DTEND;TZID=America/Denver:20150829T170000
DTSTAMP:20260425T070729
CREATED:20150802T013224Z
LAST-MODIFIED:20150802T013224Z
UID:2198-1440853200-1440867600@colocgs.org
SUMMARY:BB Coaches Clinic
DESCRIPTION:CCGS Basketball Coaches Clinic\nFeaturing Dean Lockwood Assistant Coach University of Tennessee\nMark your Calendars for Saturday\, August 29th from 1 pm to 5 pm for the inaugural CCGS Basketball Clinic at Strasburg High School in Strasburg\, Colorado!! \nDate: Saturday\, August 29th 2015\nTime: 1pm – 5 pm\nLocation: Strasburg HS\nAddress: 56729 E Colorado Ave\, Strasburg\, CO 80136 (20 min East of Aurora) map\nPrice: $50 non-members\, $40 members
URL:https://colocgs.org/event/bb-coaches-clinic
LOCATION:Strasburg High School\, 56729 E Colorado Ave\, Strasburg\, CO\, 80136\, United States
CATEGORIES:Basketball,Sports
ORGANIZER;CN="Merci Ames":MAILTO:mames@strasburg31j.com
END:VEVENT
BEGIN:VEVENT
DTSTART;TZID=America/Denver:20150626T080000
DTEND;TZID=America/Denver:20150626T170000
DTSTAMP:20260425T070729
CREATED:20150324T091949Z
LAST-MODIFIED:20150324T092212Z
UID:2145-1435305600-1435338000@colocgs.org
SUMMARY:13th Annual Ruby Miller Scholarship Scramble
DESCRIPTION:
URL:https://colocgs.org/event/thirteenth-annual-ruby-miller-scholarship-scramble
LOCATION:Golf Tournament\, Lake Arbor Golf Course 8600 Wadsworth Blvd\, Arvada\, CO\, 80003\, United States
END:VEVENT
END:VCALENDAR