BEGIN:VCALENDAR
VERSION:2.0
PRODID:-//CCGS - ECPv6.15.20//NONSGML v1.0//EN
CALSCALE:GREGORIAN
METHOD:PUBLISH
X-ORIGINAL-URL:https://colocgs.org
X-WR-CALDESC:Events for CCGS
REFRESH-INTERVAL;VALUE=DURATION:PT1H
X-Robots-Tag:noindex
X-PUBLISHED-TTL:PT1H
BEGIN:VTIMEZONE
TZID:America/Denver
BEGIN:DAYLIGHT
TZOFFSETFROM:-0700
TZOFFSETTO:-0600
TZNAME:MDT
DTSTART:20140309T090000
END:DAYLIGHT
BEGIN:STANDARD
TZOFFSETFROM:-0600
TZOFFSETTO:-0700
TZNAME:MST
DTSTART:20141102T080000
END:STANDARD
BEGIN:DAYLIGHT
TZOFFSETFROM:-0700
TZOFFSETTO:-0600
TZNAME:MDT
DTSTART:20150308T090000
END:DAYLIGHT
BEGIN:STANDARD
TZOFFSETFROM:-0600
TZOFFSETTO:-0700
TZNAME:MST
DTSTART:20151101T080000
END:STANDARD
BEGIN:DAYLIGHT
TZOFFSETFROM:-0700
TZOFFSETTO:-0600
TZNAME:MDT
DTSTART:20160313T090000
END:DAYLIGHT
BEGIN:STANDARD
TZOFFSETFROM:-0600
TZOFFSETTO:-0700
TZNAME:MST
DTSTART:20161106T080000
END:STANDARD
END:VTIMEZONE
BEGIN:VEVENT
DTSTART;TZID=America/Denver:20150829T130000
DTEND;TZID=America/Denver:20150829T170000
DTSTAMP:20260425T221747
CREATED:20150802T013224Z
LAST-MODIFIED:20150802T013224Z
UID:2198-1440853200-1440867600@colocgs.org
SUMMARY:BB Coaches Clinic
DESCRIPTION:CCGS Basketball Coaches Clinic\nFeaturing Dean Lockwood Assistant Coach University of Tennessee\nMark your Calendars for Saturday\, August 29th from 1 pm to 5 pm for the inaugural CCGS Basketball Clinic at Strasburg High School in Strasburg\, Colorado!! \nDate: Saturday\, August 29th 2015\nTime: 1pm – 5 pm\nLocation: Strasburg HS\nAddress: 56729 E Colorado Ave\, Strasburg\, CO 80136 (20 min East of Aurora) map\nPrice: $50 non-members\, $40 members
URL:https://colocgs.org/event/bb-coaches-clinic
LOCATION:Strasburg High School\, 56729 E Colorado Ave\, Strasburg\, CO\, 80136\, United States
CATEGORIES:Basketball,Sports
ORGANIZER;CN="Merci Ames":MAILTO:mames@strasburg31j.com
END:VEVENT
END:VCALENDAR