BEGIN:VCALENDAR
VERSION:2.0
PRODID:-//CCGS - ECPv6.15.20//NONSGML v1.0//EN
CALSCALE:GREGORIAN
METHOD:PUBLISH
X-WR-CALNAME:CCGS
X-ORIGINAL-URL:https://colocgs.org
X-WR-CALDESC:Events for CCGS
REFRESH-INTERVAL;VALUE=DURATION:PT1H
X-Robots-Tag:noindex
X-PUBLISHED-TTL:PT1H
BEGIN:VTIMEZONE
TZID:America/Denver
BEGIN:DAYLIGHT
TZOFFSETFROM:-0700
TZOFFSETTO:-0600
TZNAME:MDT
DTSTART:20140309T090000
END:DAYLIGHT
BEGIN:STANDARD
TZOFFSETFROM:-0600
TZOFFSETTO:-0700
TZNAME:MST
DTSTART:20141102T080000
END:STANDARD
BEGIN:DAYLIGHT
TZOFFSETFROM:-0700
TZOFFSETTO:-0600
TZNAME:MDT
DTSTART:20150308T090000
END:DAYLIGHT
BEGIN:STANDARD
TZOFFSETFROM:-0600
TZOFFSETTO:-0700
TZNAME:MST
DTSTART:20151101T080000
END:STANDARD
BEGIN:DAYLIGHT
TZOFFSETFROM:-0700
TZOFFSETTO:-0600
TZNAME:MDT
DTSTART:20160313T090000
END:DAYLIGHT
BEGIN:STANDARD
TZOFFSETFROM:-0600
TZOFFSETTO:-0700
TZNAME:MST
DTSTART:20161106T080000
END:STANDARD
BEGIN:DAYLIGHT
TZOFFSETFROM:-0700
TZOFFSETTO:-0600
TZNAME:MDT
DTSTART:20170312T090000
END:DAYLIGHT
BEGIN:STANDARD
TZOFFSETFROM:-0600
TZOFFSETTO:-0700
TZNAME:MST
DTSTART:20171105T080000
END:STANDARD
BEGIN:DAYLIGHT
TZOFFSETFROM:-0700
TZOFFSETTO:-0600
TZNAME:MDT
DTSTART:20180311T090000
END:DAYLIGHT
BEGIN:STANDARD
TZOFFSETFROM:-0600
TZOFFSETTO:-0700
TZNAME:MST
DTSTART:20181104T080000
END:STANDARD
BEGIN:DAYLIGHT
TZOFFSETFROM:-0700
TZOFFSETTO:-0600
TZNAME:MDT
DTSTART:20190310T090000
END:DAYLIGHT
BEGIN:STANDARD
TZOFFSETFROM:-0600
TZOFFSETTO:-0700
TZNAME:MST
DTSTART:20191103T080000
END:STANDARD
BEGIN:DAYLIGHT
TZOFFSETFROM:-0700
TZOFFSETTO:-0600
TZNAME:MDT
DTSTART:20200308T090000
END:DAYLIGHT
BEGIN:STANDARD
TZOFFSETFROM:-0600
TZOFFSETTO:-0700
TZNAME:MST
DTSTART:20201101T080000
END:STANDARD
END:VTIMEZONE
BEGIN:VEVENT
DTSTART;TZID=America/Denver:20190316T173000
DTEND;TZID=America/Denver:20190316T203000
DTSTAMP:20260425T093740
CREATED:20180210T221933Z
LAST-MODIFIED:20190203T182249Z
UID:2854-1552757400-1552768200@colocgs.org
SUMMARY:Basketball All-State Banquet
DESCRIPTION:Basketball CCGS All-State Banquet – 16 March\, Time: 6:00pm (Doors open at 5:30pm) \nThe banquet will be held at the DoubleTree hotel in Westminster. (map)\nFor those attending the banquet\, it is open seating\, so if you have a group that wants to sit together please arrive early to save your seats. \nIf you need a Hotel: Room reservations can be made at the DoubleTree Hotel.
URL:https://colocgs.org/event/basketball-all-state-banquet
LOCATION:DoubleTree Hotel\, 8773 Yates Drive\, Westminster\, CO\, 80031\, United States
CATEGORIES:Basketball,Sports
END:VEVENT
BEGIN:VEVENT
DTSTART;TZID=America/Denver:20180311T093000
DTEND;TZID=America/Denver:20180311T140000
DTSTAMP:20260425T093740
CREATED:20170311T230959Z
LAST-MODIFIED:20170814T115614Z
UID:2651-1520760600-1520776800@colocgs.org
SUMMARY:Basketball Selection Meeting
DESCRIPTION:The meeting will be at Hilton Garden Inn Denver (map) on 3/11 at 9:30 a.m. You must be a CCGS member to vote for athletes (Become a member). \nThe All-State ballot as well as ballot information can be found on the Basketball page.
URL:https://colocgs.org/event/basketball-selection-meeting-2
LOCATION:Hilton Garden Inn Denver Airport\, Hilton Garden Inn Denver Airport\, 16475 E 40th Cir\, Aurora\, CO\, 80011\, United States
CATEGORIES:Basketball,Sports
END:VEVENT
BEGIN:VEVENT
DTSTART;TZID=America/Denver:20150829T130000
DTEND;TZID=America/Denver:20150829T170000
DTSTAMP:20260425T093740
CREATED:20150802T013224Z
LAST-MODIFIED:20150802T013224Z
UID:2198-1440853200-1440867600@colocgs.org
SUMMARY:BB Coaches Clinic
DESCRIPTION:CCGS Basketball Coaches Clinic\nFeaturing Dean Lockwood Assistant Coach University of Tennessee\nMark your Calendars for Saturday\, August 29th from 1 pm to 5 pm for the inaugural CCGS Basketball Clinic at Strasburg High School in Strasburg\, Colorado!! \nDate: Saturday\, August 29th 2015\nTime: 1pm – 5 pm\nLocation: Strasburg HS\nAddress: 56729 E Colorado Ave\, Strasburg\, CO 80136 (20 min East of Aurora) map\nPrice: $50 non-members\, $40 members
URL:https://colocgs.org/event/bb-coaches-clinic
LOCATION:Strasburg High School\, 56729 E Colorado Ave\, Strasburg\, CO\, 80136\, United States
CATEGORIES:Basketball,Sports
ORGANIZER;CN="Merci Ames":MAILTO:mames@strasburg31j.com
END:VEVENT
END:VCALENDAR